BEGIN:VCALENDAR
VERSION:2.0
PRODID:-//Juventude Ouriense - ECPv6.10.2//NONSGML v1.0//EN
CALSCALE:GREGORIAN
METHOD:PUBLISH
X-ORIGINAL-URL:https://juventudeouriense.pt
X-WR-CALDESC:Events for Juventude Ouriense
REFRESH-INTERVAL;VALUE=DURATION:PT1H
X-Robots-Tag:noindex
X-PUBLISHED-TTL:PT1H
BEGIN:VTIMEZONE
TZID:UTC
BEGIN:STANDARD
TZOFFSETFROM:+0000
TZOFFSETTO:+0000
TZNAME:UTC
DTSTART:20220101T000000
END:STANDARD
END:VTIMEZONE
BEGIN:VEVENT
DTSTART;TZID=UTC:20230425T100000
DTEND;TZID=UTC:20230425T180000
DTSTAMP:20260422T102624
CREATED:20230424T132012Z
LAST-MODIFIED:20230424T132849Z
UID:846-1682416800-1682445600@juventudeouriense.pt
SUMMARY:Encontro de Hóquei
DESCRIPTION:Sub 13 10h30 JOxS.C. Marinhense |||\nFormação 14h00 Bambis JO x Benjamins JO ||||\nSéniores 18h00 JO(A) x JO(B)
URL:https://juventudeouriense.pt/agenda/encontro-de-hoquei/
CATEGORIES:Hóquei em Patins
ATTACH;FMTTYPE=image/jpeg:https://juventudeouriense.pt/wp-content/uploads/2023/04/Untitled-5.jpg
END:VEVENT
BEGIN:VEVENT
DTSTART;TZID=UTC:20230107T103000
DTEND;TZID=UTC:20230107T233000
DTSTAMP:20260422T102624
CREATED:20221109T091440Z
LAST-MODIFIED:20221109T091529Z
UID:795-1673087400-1673134200@juventudeouriense.pt
SUMMARY:JO - BIR | Hóquei - Pav. da Escola Secundária de Ourém
DESCRIPTION:
URL:https://juventudeouriense.pt/agenda/jo-bir-hoquei-pav-da-escola-secundaria-de-ourem/
CATEGORIES:Hóquei
END:VEVENT
BEGIN:VEVENT
DTSTART;TZID=UTC:20221217T150000
DTEND;TZID=UTC:20221217T170000
DTSTAMP:20260422T102624
CREATED:20221109T091319Z
LAST-MODIFIED:20221109T091529Z
UID:793-1671289200-1671296400@juventudeouriense.pt
SUMMARY:AACD - JO | Hóquei - Pavilhão Municipal de Alcobaça
DESCRIPTION:
URL:https://juventudeouriense.pt/agenda/aacd-jo-hoquei-pavilhao-municipal-de-alcobaca/
CATEGORIES:Hóquei
END:VEVENT
BEGIN:VEVENT
DTSTART;TZID=UTC:20221210T103000
DTEND;TZID=UTC:20221210T233000
DTSTAMP:20260422T102624
CREATED:20221109T091225Z
LAST-MODIFIED:20221109T091529Z
UID:791-1670668200-1670715000@juventudeouriense.pt
SUMMARY:JO- SCT B | Hóquei - Hóquei - Pav. da Escola Secundária de Ourém
DESCRIPTION:
URL:https://juventudeouriense.pt/agenda/jo-sct-b-hoquei-hoquei-pav-da-escola-secundaria-de-ourem/
CATEGORIES:Hóquei
END:VEVENT
BEGIN:VEVENT
DTSTART;TZID=UTC:20221203T150000
DTEND;TZID=UTC:20221203T170000
DTSTAMP:20260422T102624
CREATED:20221109T091045Z
LAST-MODIFIED:20221109T091530Z
UID:789-1670079600-1670086800@juventudeouriense.pt
SUMMARY:SCM - JO | Hóquei - Pav. S. Clube Marinhense
DESCRIPTION:
URL:https://juventudeouriense.pt/agenda/scm-jo-hoquei-pav-s-clube-marinhense/
CATEGORIES:Hóquei
END:VEVENT
BEGIN:VEVENT
DTSTART;TZID=UTC:20221201T103000
DTEND;TZID=UTC:20221201T233000
DTSTAMP:20260422T102624
CREATED:20221109T090953Z
LAST-MODIFIED:20221109T091530Z
UID:787-1669890600-1669937400@juventudeouriense.pt
SUMMARY:JO - UFE | Hóquei - Hóquei - Pav. da Escola Secundária de Ourém
DESCRIPTION:
URL:https://juventudeouriense.pt/agenda/jo-ufe-hoquei-hoquei-pav-da-escola-secundaria-de-ourem/
CATEGORIES:Hóquei
END:VEVENT
BEGIN:VEVENT
DTSTART;TZID=UTC:20221119T103000
DTEND;TZID=UTC:20221119T233000
DTSTAMP:20260422T102624
CREATED:20221109T090631Z
LAST-MODIFIED:20221109T091530Z
UID:782-1668853800-1668900600@juventudeouriense.pt
SUMMARY:JO - HCTur | Hóquei - Pav. da Escola Secundária de Ourém
DESCRIPTION:
URL:https://juventudeouriense.pt/agenda/jo-hctur-hoquei/
CATEGORIES:Hóquei
END:VEVENT
BEGIN:VEVENT
DTSTART;TZID=UTC:20221112T150000
DTEND;TZID=UTC:20221112T170000
DTSTAMP:20260422T102624
CREATED:20221109T090415Z
LAST-MODIFIED:20221109T091530Z
UID:780-1668265200-1668272400@juventudeouriense.pt
SUMMARY:SCT A - JO | Hóquei - Pav Jacome Ratton Tomar
DESCRIPTION:
URL:https://juventudeouriense.pt/agenda/sct-a-jo-hoquei/
CATEGORIES:Hóquei
END:VEVENT
END:VCALENDAR